BEGIN:VCALENDAR
VERSION:2.0
PRODID:-//Squarespace Inc/Squarespace 6//v6//EN
BEGIN:VEVENT
UID:5dcb48f72a9f4d3453268b5e@squarespace.com
DTSTAMP:20201009T224858Z
DTSTART:20200912T233000Z
DTEND:20200913T033000Z
SUMMARY:BBQ and Charcoal Cooking
END:VEVENT
END:VCALENDAR
