BEGIN:VCALENDAR
VERSION:2.0
PRODID:-//Squarespace Inc/Squarespace 6//v6//EN
BEGIN:VEVENT
UID:5f5816dbf112112a1c3bfcc5@squarespace.com
DTSTAMP:20201018T235654Z
DTSTART:20201031T010000Z
DTEND:20201031T050000Z
SUMMARY:BOOKED OUT - JOIN WAITLIST  - FEAST AT FOOD I AM
END:VEVENT
END:VCALENDAR
