BEGIN:VCALENDAR
VERSION:2.0
PRODID:-//Squarespace Inc/Squarespace 6//v6//EN
BEGIN:VEVENT
UID:5f45b30bf5e5f93a319bf1c2@squarespace.com
DTSTAMP:20201009T224858Z
DTSTART:20200926T083000Z
DTEND:20200926T123000Z
SUMMARY:TWO PLACES LEFT - FEAST AT FOOD I AM
END:VEVENT
END:VCALENDAR
