BEGIN:VCALENDAR
VERSION:2.0
PRODID:-//Squarespace Inc/Squarespace 6//v6//EN
BEGIN:VEVENT
UID:5cbe63c515fcc0e851b92b2c@squarespace.com
DTSTAMP:20201009T224813Z
DTSTART:20191204T070000Z
DTEND:20191204T110000Z
SUMMARY:BOOKED OUT - Stress Free Christmas Feast - Modern Classics
END:VEVENT
END:VCALENDAR
