BEGIN:VCALENDAR
VERSION:2.0
PRODID:-//Squarespace Inc/Squarespace 6//v6//EN
BEGIN:VEVENT
UID:5cbe5eea652dea24f3a98751@squarespace.com
DTSTAMP:20201009T224437Z
DTSTART:20191123T230000Z
DTEND:20191124T030000Z
SUMMARY:BOOKED OUT - Stress Free Christmas Feast - Modern Classics
END:VEVENT
END:VCALENDAR
