BEGIN:VCALENDAR
VERSION:2.0
PRODID:-//Squarespace Inc/Squarespace 6//v6//EN
BEGIN:VEVENT
UID:56c15982f8baf3afb3275f0b@squarespace.com
DTSTAMP:20201009T224748Z
DTSTART:20190828T080000Z
DTEND:20190828T120000Z
SUMMARY:BOOKED OUT - My Greek Taverna 
END:VEVENT
END:VCALENDAR
