BEGIN:VCALENDAR
VERSION:2.0
PRODID:-//Squarespace Inc/Squarespace 6//v6//EN
BEGIN:VEVENT
UID:5cad577a71c10b6a6b3162a4@squarespace.com
DTSTAMP:20201009T224528Z
DTSTART:20190901T020000Z
DTEND:20190901T050000Z
SUMMARY:Fathers Day Luncheon - The Chef &amp\; The Barista
END:VEVENT
END:VCALENDAR
