BEGIN:VCALENDAR
VERSION:2.0
PRODID:-//Squarespace Inc/Squarespace 6//v6//EN
BEGIN:VEVENT
UID:5bb9db644192025ef745e158@squarespace.com
DTSTAMP:20201009T224613Z
DTSTART:20190731T080000Z
DTEND:20190731T120000Z
SUMMARY:4 PLACES LEFT - Bring back those holiday memories - Discover the se
 crets of Balinese &amp\; Indonesian Cooking
END:VEVENT
END:VCALENDAR
