BEGIN:VCALENDAR
VERSION:2.0
PRODID:-//Squarespace Inc/Squarespace 6//v6//EN
BEGIN:VEVENT
UID:5cb680e8085229a5fbaf0269@squarespace.com
DTSTAMP:20201009T224858Z
DTSTART:20200120T020000Z
DTEND:20200120T043000Z
SUMMARY:TWO PLACES LEFT- Junior Chefs (Afternoon Class) | 12-16 years
END:VEVENT
END:VCALENDAR
