BEGIN:VCALENDAR
VERSION:2.0
PRODID:-//Squarespace Inc/Squarespace 6//v6//EN
BEGIN:VEVENT
UID:5dafc23c29f4d561c943f709@squarespace.com
DTSTAMP:20201009T224858Z
DTSTART:20200121T020000Z
DTEND:20200121T043000Z
SUMMARY:BOOKED OUT- Junior Chefs - Baking (Afternoon Class) | 12-16 years
END:VEVENT
END:VCALENDAR
