BEGIN:VCALENDAR
VERSION:2.0
PRODID:-//Squarespace Inc/Squarespace 6//v6//EN
BEGIN:VEVENT
UID:5dafc1e279c8cd5b1705575d@squarespace.com
DTSTAMP:20201009T224858Z
DTSTART:20200120T220000Z
DTEND:20200121T003000Z
SUMMARY:BOOKED OUT - Junior Chefs - Baking (Morning Class) | 8-12 years
END:VEVENT
END:VCALENDAR
