BEGIN:VCALENDAR
VERSION:2.0
PRODID:-//Squarespace Inc/Squarespace 6//v6//EN
BEGIN:VEVENT
UID:5d8c6b550632804908e1c2a8@squarespace.com
DTSTAMP:20201009T224437Z
DTSTART:20191105T010000Z
DTEND:20191105T060000Z
SUMMARY:BOOKINGS CLOSED - The Melbourne Cup Long Tables Lunch
END:VEVENT
END:VCALENDAR
