BEGIN:VCALENDAR
VERSION:2.0
PRODID:-//Squarespace Inc/Squarespace 6//v6//EN
BEGIN:VEVENT
UID:5dddda508e251f744c2881cd@squarespace.com
DTSTAMP:20201009T224858Z
DTSTART:20200229T080000Z
DTEND:20200229T103000Z
SUMMARY:BOOKED OUT - Monsieur Camembert - "A Night to Remember" 
END:VEVENT
END:VCALENDAR
