BEGIN:VCALENDAR
VERSION:2.0
PRODID:-//Squarespace Inc/Squarespace 6//v6//EN
BEGIN:VEVENT
UID:5cad3fd80a83de000194b256@squarespace.com
DTSTAMP:20201009T224614Z
DTSTART:20190714T230000Z
DTEND:20190715T013000Z
SUMMARY:BOOKED OUT - Junior Chefs (Morning Class) | 8-12 years
END:VEVENT
END:VCALENDAR
