BEGIN:VCALENDAR
VERSION:2.0
PRODID:-//Squarespace Inc/Squarespace 6//v6//EN
BEGIN:VEVENT
UID:5d536e8044978100010fa7c4@squarespace.com
DTSTAMP:20201009T224500Z
DTSTART:20191002T230000Z
DTEND:20191003T013000Z
SUMMARY:Junior Chefs (Morning Class) | 12-16 years
END:VEVENT
END:VCALENDAR
