BEGIN:VCALENDAR
VERSION:2.0
PRODID:-//Squarespace Inc/Squarespace 6//v6//EN
BEGIN:VEVENT
UID:5be8e9dd40ec9a97ddc6a932@squarespace.com
DTSTAMP:20201009T224417Z
DTSTART:20190415T023000Z
DTEND:20190415T050000Z
SUMMARY:BOOKED OUT - Junior Chefs (Afternoon Class) | 8-14 years
END:VEVENT
END:VCALENDAR
