BEGIN:VCALENDAR
VERSION:2.0
PRODID:-//Squarespace Inc/Squarespace 6//v6//EN
BEGIN:VEVENT
UID:5cb67f2b971a185259809dd2@squarespace.com
DTSTAMP:20201009T224500Z
DTSTART:20191001T230000Z
DTEND:20191002T013000Z
SUMMARY:Junior Chefs (Morning Class) | 8-12 years
END:VEVENT
END:VCALENDAR
