BEGIN:VCALENDAR
VERSION:2.0
PRODID:-//Squarespace Inc/Squarespace 6//v6//EN
BEGIN:VEVENT
UID:5be8e81bf950b7a8d8c97c8d@squarespace.com
DTSTAMP:20201009T224417Z
DTSTART:20190414T230000Z
DTEND:20190415T013000Z
SUMMARY:BOOKED OUT - Junior Chefs (Morning Class) | 8-14 years
END:VEVENT
END:VCALENDAR
