BEGIN:VCALENDAR
VERSION:2.0
PRODID:-//Squarespace Inc/Squarespace 6//v6//EN
BEGIN:VEVENT
UID:5dc35997007cce0f6c44eb3d@squarespace.com
DTSTAMP:20201009T224858Z
DTSTART:20200131T230000Z
DTEND:20200201T030000Z
SUMMARY:BOOKED OUT - Renowned Chef Annette Fear returns -  Thai Banquet 
END:VEVENT
END:VCALENDAR
