BEGIN:VCALENDAR
VERSION:2.0
PRODID:-//Squarespace Inc/Squarespace 6//v6//EN
BEGIN:VEVENT
UID:5c0da8b9562fa767853cf4bc@squarespace.com
DTSTAMP:20201009T224748Z
DTSTART:20190803T000000Z
DTEND:20190803T043000Z
SUMMARY:BOOKED OUT - The Art of Pasta and Risotto
END:VEVENT
END:VCALENDAR
