BEGIN:VCALENDAR
VERSION:2.0
PRODID:-//Squarespace Inc/Squarespace 6//v6//EN
BEGIN:VEVENT
UID:5cb68596652dea85b4e5a911@squarespace.com
DTSTAMP:20201009T224858Z
DTSTART:20200221T064500Z
DTEND:20200221T091500Z
SUMMARY:BOOKED OUT - Australian Craft Gins with The Martini Whisperer
END:VEVENT
END:VCALENDAR
