BEGIN:VCALENDAR
VERSION:2.0
PRODID:-//Squarespace Inc/Squarespace 6//v6//EN
BEGIN:VEVENT
UID:5d422015170c5c0001ea46b8@squarespace.com
DTSTAMP:20201009T224500Z
DTSTART:20191010T073000Z
DTEND:20191010T113000Z
SUMMARY:REGIONAL PRODUCE DINNER CLUB
END:VEVENT
END:VCALENDAR
