BEGIN:VCALENDAR
VERSION:2.0
PRODID:-//Squarespace Inc/Squarespace 6//v6//EN
BEGIN:VEVENT
UID:5cf5d3835e301d00012219ae@squarespace.com
DTSTAMP:20201009T224437Z
DTSTART:20191101T073000Z
DTEND:20191101T113000Z
SUMMARY:BOOKED OUT - FINAL DINNER CLUB FOR 2019
END:VEVENT
END:VCALENDAR
