BEGIN:VCALENDAR
VERSION:2.0
PRODID:-//Squarespace Inc/Squarespace 6//v6//EN
BEGIN:VEVENT
UID:5c8f82efec212d73479258a6@squarespace.com
DTSTAMP:20201009T224614Z
DTSTART:20190726T083000Z
DTEND:20190726T123000Z
SUMMARY:BOOKED OUT - The Dinner Club with Soon Lee Low
END:VEVENT
END:VCALENDAR
