BEGIN:VCALENDAR
VERSION:2.0
PRODID:-//Squarespace Inc/Squarespace 6//v6//EN
BEGIN:VEVENT
UID:5be9359ecd8366853dabf63f@squarespace.com
DTSTAMP:20201009T224512Z
DTSTART:20190524T083000Z
DTEND:20190524T123000Z
SUMMARY:BOOKED OUT - The Dinner Club with Soon Lee Low
END:VEVENT
END:VCALENDAR
