BEGIN:VCALENDAR
VERSION:2.0
PRODID:-//Squarespace Inc/Squarespace 6//v6//EN
BEGIN:VEVENT
UID:5cf8ac0f3e97ef00016830e6@squarespace.com
DTSTAMP:20201009T224500Z
DTSTART:20191018T073000Z
DTEND:20191018T113000Z
SUMMARY:Rossiter Private Event - 
END:VEVENT
END:VCALENDAR
