BEGIN:VCALENDAR
VERSION:2.0
PRODID:-//Squarespace Inc/Squarespace 6//v6//EN
BEGIN:VEVENT
UID:5f3c6947ec884c2af3b07f62@squarespace.com
DTSTAMP:20201016T025606Z
DTSTART:20201017T223000Z
DTEND:20201018T023000Z
SUMMARY:Vietnamese - Favourites from our Travels 
END:VEVENT
END:VCALENDAR
