BEGIN:VCALENDAR
VERSION:2.0
PRODID:-//Squarespace Inc/Squarespace 6//v6//EN
BEGIN:VEVENT
UID:5dc34e30a46cc2710de5bf03@squarespace.com
DTSTAMP:20201009T224858Z
DTSTART:20200131T064500Z
DTEND:20200131T104500Z
SUMMARY:BOOKED OUT - Renowned Chef Annette Fear returns - Vietnamese Cuisin
 e 
END:VEVENT
END:VCALENDAR
