BEGIN:VCALENDAR
VERSION:2.0
PRODID:-//Squarespace Inc/Squarespace 6//v6//EN
BEGIN:VEVENT
UID:5cb66cd4ee6eb0179dfd5d84@squarespace.com
DTSTAMP:20201009T224528Z
DTSTART:20190929T000000Z
DTEND:20190929T040000Z
SUMMARY:BOOKED OUT - Vietnamese Street Food 
END:VEVENT
END:VCALENDAR
